BEGIN:VCALENDAR
VERSION:2.0
PRODID:-//Wirtschaftsnetzwerk - ECPv6.8.1//NONSGML v1.0//EN
CALSCALE:GREGORIAN
METHOD:PUBLISH
X-WR-CALNAME:Wirtschaftsnetzwerk
X-ORIGINAL-URL:https://www.wirtschaftsnetzwerk-denzlingen.de
X-WR-CALDESC:Veranstaltungen für Wirtschaftsnetzwerk
REFRESH-INTERVAL;VALUE=DURATION:PT1H
X-Robots-Tag:noindex
X-PUBLISHED-TTL:PT1H
BEGIN:VTIMEZONE
TZID:Europe/Berlin
BEGIN:DAYLIGHT
TZOFFSETFROM:+0100
TZOFFSETTO:+0200
TZNAME:CEST
DTSTART:20260329T010000
END:DAYLIGHT
BEGIN:STANDARD
TZOFFSETFROM:+0200
TZOFFSETTO:+0100
TZNAME:CET
DTSTART:20261025T010000
END:STANDARD
END:VTIMEZONE
BEGIN:VEVENT
DTSTART;TZID=Europe/Berlin:20260724T170000
DTEND;TZID=Europe/Berlin:20260724T230000
DTSTAMP:20260424T223245
CREATED:20190712T084956Z
LAST-MODIFIED:20251222T084625Z
UID:147-1784912400-1784934000@www.wirtschaftsnetzwerk-denzlingen.de
SUMMARY:Afterwork Party
DESCRIPTION:Am 24.07. ist es soweit. Wir feiern mit euch die After-Work-Party auf dem Rathausplatz mit grandioser musikalischer Unterstützung ab 17:00. Wir freuen uns auf einen tollen Abend mit Gesprächen\, Getränken und Essen.
URL:https://www.wirtschaftsnetzwerk-denzlingen.de/event/afterwork-party/
ATTACH;FMTTYPE=image/jpeg:https://www.wirtschaftsnetzwerk-denzlingen.de/wp-content/uploads/wirtschaftsnetzwerk-denzlingen.jpg
ORGANIZER;CN="Wirtschaftsnetzwerk Denzingen e.V.":MAILTO:info@wirtschaftsnetzwerk-denzlingen.de
END:VEVENT
END:VCALENDAR